BEGIN:VCALENDAR
PRODID:-//Microsoft Corporation//Outlook 12.0 MIMEDIR//EN
VERSION:2.0
CALSCALE:GREGORIAN
BEGIN:VEVENT
UID: 2eb7ec38-e14d-4b9f-95ce-2135d026cf70
SUMMARY:Saksa keele olümpiaadi piirkondlik voor
DTSTAMP:20230123
DTSTART:20230123
DTEND:20230124
DURATION:P1D
LOCATION:
DESCRIPTION: <p><strong>Link: </strong>https://www.viljandigymnaasium.edu.ee/et/sundmuste-kalender/saksa-keele-olumpiaadi-piirkondlik-voor</p><p><strong>Hind: </strong></p>
STATUS:CONFIRMED
SEQUENCE:3
X-ALT-DESC;FMTTYPE=text/html:<p><strong>Link: </strong>https://www.viljandigymnaasium.edu.ee/et/sundmuste-kalender/saksa-keele-olumpiaadi-piirkondlik-voor</p><p><strong>Hind: </strong></p>
X-MICROSOFT-CDO-BUSYSTATUS:OOF
X-MICROSOFT-CDO-IMPORTANCE:1
X-MICROSOFT-DISALLOW-COUNTER:FALSE
X-MS-OLK-ALLOWEXTERNCHECK:TRUE
X-MS-OLK-CONFTYPE:0
X-MICROSOFT-CDO-ALLDAYEVENT:1
X-MICROSOFT-MSNCALENDAR-ALLDAYEVENT:1
END:VEVENT
END:VCALENDAR